BEGIN:VCALENDAR
VERSION:2.0
PRODID:-//CWVYS - ECPv6.15.20//NONSGML v1.0//EN
CALSCALE:GREGORIAN
METHOD:PUBLISH
X-WR-CALNAME:CWVYS
X-ORIGINAL-URL:https://www.cwvys.org.uk
X-WR-CALDESC:Events for CWVYS
REFRESH-INTERVAL;VALUE=DURATION:PT1H
X-Robots-Tag:noindex
X-PUBLISHED-TTL:PT1H
BEGIN:VTIMEZONE
TZID:UTC
BEGIN:STANDARD
TZOFFSETFROM:+0000
TZOFFSETTO:+0000
TZNAME:UTC
DTSTART:20240101T000000
END:STANDARD
END:VTIMEZONE
BEGIN:VTIMEZONE
TZID:Europe/London
BEGIN:DAYLIGHT
TZOFFSETFROM:+0000
TZOFFSETTO:+0100
TZNAME:BST
DTSTART:20240331T010000
END:DAYLIGHT
BEGIN:STANDARD
TZOFFSETFROM:+0100
TZOFFSETTO:+0000
TZNAME:GMT
DTSTART:20241027T010000
END:STANDARD
BEGIN:DAYLIGHT
TZOFFSETFROM:+0000
TZOFFSETTO:+0100
TZNAME:BST
DTSTART:20250330T010000
END:DAYLIGHT
BEGIN:STANDARD
TZOFFSETFROM:+0100
TZOFFSETTO:+0000
TZNAME:GMT
DTSTART:20251026T010000
END:STANDARD
BEGIN:DAYLIGHT
TZOFFSETFROM:+0000
TZOFFSETTO:+0100
TZNAME:BST
DTSTART:20260329T010000
END:DAYLIGHT
BEGIN:STANDARD
TZOFFSETFROM:+0100
TZOFFSETTO:+0000
TZNAME:GMT
DTSTART:20261025T010000
END:STANDARD
END:VTIMEZONE
BEGIN:VEVENT
DTSTART;VALUE=DATE:20251202
DTEND;VALUE=DATE:20251203
DTSTAMP:20260420T165456
CREATED:20250602T120356Z
LAST-MODIFIED:20250602T120356Z
UID:10318-1764633600-1764719999@www.cwvys.org.uk
SUMMARY:Youth Work Sector Safeguarding Group Meeting / Cyfarfod Grŵp Diogelu'r Sector Gwaith Ieuenctid
DESCRIPTION:
URL:https://www.cwvys.org.uk/event/youth-work-sector-safeguarding-group-meeting-cyfarfod-grwp-diogelur-sector-gwaith-ieuenctid-2/
END:VEVENT
BEGIN:VEVENT
DTSTART;VALUE=DATE:20251205
DTEND;VALUE=DATE:20251206
DTSTAMP:20260420T165456
CREATED:20250602T120611Z
LAST-MODIFIED:20250602T120611Z
UID:10320-1764892800-1764979199@www.cwvys.org.uk
SUMMARY:CWVYS President's Group Meeting / Cyfarfod Grŵp Llywydd CWVYS
DESCRIPTION:
URL:https://www.cwvys.org.uk/event/cwvys-presidents-group-meeting-cyfarfod-grwp-llywydd-cwvys-3/
END:VEVENT
BEGIN:VEVENT
DTSTART;VALUE=DATE:20251205
DTEND;VALUE=DATE:20251206
DTSTAMP:20260420T165456
CREATED:20250828T181957Z
LAST-MODIFIED:20250828T181957Z
UID:10594-1764892800-1764979199@www.cwvys.org.uk
SUMMARY:Wales Principal Youth Officers' Group (PYOG) 2026 Meetings - Regional - North / Cyfarfodydd Grwp Prif Swyddogion Ieuenctid Cymru (GPSI) 2026 - Rhanbarth y Gogledd
DESCRIPTION:
URL:https://www.cwvys.org.uk/event/wales-principal-youth-officers-group-pyog-2026-meetings-regional-north-cyfarfodydd-grwp-prif-swyddogion-ieuenctid-cymru-gpsi-2026-rhanbarth-y-gogledd-11/
END:VEVENT
BEGIN:VEVENT
DTSTART;VALUE=DATE:20251210
DTEND;VALUE=DATE:20251211
DTSTAMP:20260420T165456
CREATED:20240906T153356Z
LAST-MODIFIED:20240906T153356Z
UID:9580-1765324800-1765411199@www.cwvys.org.uk
SUMMARY:National PYO Group meeting
DESCRIPTION:Principal Youth Officer refers to the Officer nominated by each local authority who is the strategic lead for the Youth Service. \nThe PYO Group meet as a full national group. Meetings will take place virtually (via Microsoft Teams) for 5 of the six meetings. The sixth meeting will be a residential held in October 2025\, conditions/public health regulations allowing.
URL:https://www.cwvys.org.uk/event/national-pyo-group-meeting-5/
END:VEVENT
BEGIN:VEVENT
DTSTART;TZID=UTC:20251218T100000
DTEND;TZID=UTC:20251218T120000
DTSTAMP:20260420T165456
CREATED:20250724T112235Z
LAST-MODIFIED:20250813T121252Z
UID:10482-1766052000-1766059200@www.cwvys.org.uk
SUMMARY:CWVYS All-Wales Regional Group Meeting
DESCRIPTION:
URL:https://www.cwvys.org.uk/event/cwvys-all-wales-regional-group-meeting-2/
END:VEVENT
END:VCALENDAR