BEGIN:VCALENDAR
VERSION:2.0
PRODID:-//CWVYS - ECPv6.15.20//NONSGML v1.0//EN
CALSCALE:GREGORIAN
METHOD:PUBLISH
X-WR-CALNAME:CWVYS
X-ORIGINAL-URL:https://www.cwvys.org.uk
X-WR-CALDESC:Events for CWVYS
REFRESH-INTERVAL;VALUE=DURATION:PT1H
X-Robots-Tag:noindex
X-PUBLISHED-TTL:PT1H
BEGIN:VTIMEZONE
TZID:UTC
BEGIN:STANDARD
TZOFFSETFROM:+0000
TZOFFSETTO:+0000
TZNAME:UTC
DTSTART:20240101T000000
END:STANDARD
END:VTIMEZONE
BEGIN:VEVENT
DTSTART;VALUE=DATE:20250602
DTEND;VALUE=DATE:20250609
DTSTAMP:20260420T141041
CREATED:20250528T140343Z
LAST-MODIFIED:20250528T140343Z
UID:10257-1748822400-1749427199@www.cwvys.org.uk
SUMMARY:Wythnos Gwirfoddolwyr 2025 Volunteers' Week
DESCRIPTION:Click on the link below to see how you can get involved. \nVolunteers’ Week 2025: How to get involved – WCVA \nCliciwch ar y ddolen isod i weld sut mae cymryd rhan. \nWythnos Gwirfoddolwyr 2025: Sut i gymryd rhan – WCVA
URL:https://www.cwvys.org.uk/event/wythnos-gwirfoddolwyr-2025-volunteers-week/
END:VEVENT
BEGIN:VEVENT
DTSTART;VALUE=DATE:20250609
DTEND;VALUE=DATE:20250616
DTSTAMP:20260420T141041
CREATED:20250605T151606Z
LAST-MODIFIED:20250605T151606Z
UID:10343-1749427200-1750031999@www.cwvys.org.uk
SUMMARY:Loneliness Awareness Week 2025 Wythnos Ymwybyddiaeth Unigrwydd
DESCRIPTION:Loneliness Awareness Week 2025 takes place from 9th-15th June\, presenting a valuable opportunity to address the growing concern of loneliness. This year’s theme\, “Meeting Loneliness Together\,” emphasises reducing the stigma around this natural human emotion and encourages collective efforts to foster connections.   \n  \nMae Wythnos Ymwybyddiaeth Unigrwydd 2025 yn digwydd rhwng y 9fed a’r 15fed o Fehefin\, gan gynnig cyfle gwerthfawr i fynd i’r afael â’r pryder cynyddol am unigrwydd. Mae’r thema eleni\, “Cwrdd âg Unigrwydd gyda’n gilydd”\, yn pwysleisio ar leihau’r stigma o amgylch yr emosiwn dynol naturiol hwn ac yn annog ymdrechion cyfunol i feithrin cysylltiadau.
URL:https://www.cwvys.org.uk/event/loneliness-awareness-week-2025-wythnos-ymwybyddiaeth-unigrwydd/
END:VEVENT
BEGIN:VEVENT
DTSTART;TZID=UTC:20250611T080000
DTEND;TZID=UTC:20250611T173000
DTSTAMP:20260420T141041
CREATED:20250602T110013Z
LAST-MODIFIED:20250602T110103Z
UID:10286-1749628800-1749663000@www.cwvys.org.uk
SUMMARY:Cyfarfod Grŵp Marchnata a Chyfathrebu Gwaith Ieuenctid 2025 Youth Work Marketing & Communications Group Meeting
DESCRIPTION:
URL:https://www.cwvys.org.uk/event/youth-work-marketing-comcyfarfod-grwp-marchnata-a-chyfathrebu-gwaith-ieuenctid-2025-youth-work-marketing-communications-group-meeting/
END:VEVENT
BEGIN:VEVENT
DTSTART;VALUE=DATE:20250613
DTEND;VALUE=DATE:20250614
DTSTAMP:20260420T141041
CREATED:20250602T110323Z
LAST-MODIFIED:20250602T110323Z
UID:10289-1749772800-1749859199@www.cwvys.org.uk
SUMMARY:Cyfarfod Swyddogion CWVYS Officers' Meeting
DESCRIPTION:
URL:https://www.cwvys.org.uk/event/cyfarfod-swyddogion-cwvys-officers-meeting/
END:VEVENT
BEGIN:VEVENT
DTSTART;VALUE=DATE:20250617
DTEND;VALUE=DATE:20250618
DTSTAMP:20260420T141041
CREATED:20250602T111129Z
LAST-MODIFIED:20250602T111129Z
UID:10291-1750118400-1750204799@www.cwvys.org.uk
SUMMARY:Joint CWVYS Executive Committee & President's Group Meeting / Cyfarfod ar y cyd rhwng Pwyllgor Gweithredol CWVYS a Grŵp y Llywydd
DESCRIPTION:
URL:https://www.cwvys.org.uk/event/joint-cwvys-executive-committee-presidents-group-meeting-cyfarfod-ar-y-cyd-rhwng-pwyllgor-gweithredol-cwvys-a-grwp-y-llywydd/
END:VEVENT
BEGIN:VEVENT
DTSTART;VALUE=DATE:20250618
DTEND;VALUE=DATE:20250620
DTSTAMP:20260420T141041
CREATED:20250602T111524Z
LAST-MODIFIED:20250602T111524Z
UID:10293-1750204800-1750377599@www.cwvys.org.uk
SUMMARY:WLGA Conference / Cynhadledd CLlLC
DESCRIPTION:
URL:https://www.cwvys.org.uk/event/wlga-conference-cynhadledd-clllc/
END:VEVENT
BEGIN:VEVENT
DTSTART;VALUE=DATE:20250623
DTEND;VALUE=DATE:20250701
DTSTAMP:20260420T141041
CREATED:20250602T111733Z
LAST-MODIFIED:20250602T111733Z
UID:10295-1750636800-1751327999@www.cwvys.org.uk
SUMMARY:Wythnos Gwaith Ieuenctid / Youth Work Week
DESCRIPTION:
URL:https://www.cwvys.org.uk/event/wythnos-gwaith-ieuenctid-youth-work-week/
END:VEVENT
BEGIN:VEVENT
DTSTART;TZID=UTC:20250623T080000
DTEND;TZID=UTC:20250623T170000
DTSTAMP:20260420T141042
CREATED:20250620T160752Z
LAST-MODIFIED:20250620T160752Z
UID:10364-1750665600-1750698000@www.cwvys.org.uk
SUMMARY:Celebrate Youth Work Week with The King’s Trust- Cymru / Dathlu Wythnos Gwaith Ieuenctid gyda Ymddiriedolaeth y Brenin - Cymru
DESCRIPTION:On Monday 23rd June we’ll be hosting a Youth Work Week celebration event at our Cardiff Centre. \n  \nThis will be a great opportunity to: \n\nMeet The King’s Trust Cymru team\nNetwork and collaborate with the youth sector\nMeet young people on our Explore programme\nBring young people to our centre to find out more about our offer\nTake part in our interactive discussions\n\n  \nTime: 11am – 1pm (You can drop in at any time) \n  \nVenue: The King’s Trust Cardiff Centre\, 16 Ocean Way\, CF24 5PE\, Cardiff \n  \nPlease share and circulate this invitation to partners and young people as we’d love to have as many people attend as possible. \n  \nRSVP here: https://forms.office.com/e/9tSJSCXsUQ \n  \nAny questions or queries please email Laura Campbell-Kent – laura.campbell-kent@kingstrust.org.uk
URL:https://www.cwvys.org.uk/event/celebrate-youth-work-week-with-the-kings-trust-cymru-dathlu-wythnos-gwaith-ieuenctid-gyda-ymddiriedolaeth-y-brenin-cymru/
END:VEVENT
BEGIN:VEVENT
DTSTART;TZID=UTC:20250623T080000
DTEND;TZID=UTC:20250630T170000
DTSTAMP:20260420T141042
CREATED:20250602T103143Z
LAST-MODIFIED:20250602T103143Z
UID:10284-1750665600-1751302800@www.cwvys.org.uk
SUMMARY:Youth Work Week / Wythnos Gwaith Ieuenctid
DESCRIPTION:Youth Work Week in Wales (23rd-30th June). It is an opportunity to showcase and celebrate the impact and diversity of youth work across Wales. \nThe Week aims to promote a wider understanding of and support for youth work.\nWe are encouraging young people\, youth work organisations\, decision makers and other stakeholders to join in the conversation on social media using the hashtags \n#YouthWorkWales and #GwaithIeuenctidCymruFeel free to tag us in your messages (@CWVYS)! \nWythnos Gwaith Ieuenctid yng Nghymru (23ain-30ain Mehefin). Mae’n gyfle i ddangos a dathlu’r effaith a’r amrywiaeth o waith ieuenctid ledled Cymru. \nMae’r Wythnos yn ceisio hyrwyddo dealltwriaeth ehangach o waith ieuenctid a chefnogaeth ar ei gyfer. Rydym yn annog pobl ifanc\, sefydliadau gwaith ieuenctid\, gweithredwyr penderfyniadau a rhanddeiliaid eraill i ymuno yn y sgwrs ar gyfryngau cymdeithasol gan ddefnyddio’r hashnodau \n#YouthWorkWales a #GwaithIeuenctidCymru. \nCofiwch i’n tagio yn eich negeseuon (@CWVYS)!
URL:https://www.cwvys.org.uk/event/youth-work-week-wythnos-gwaith-ieuenctid-2/
END:VEVENT
BEGIN:VEVENT
DTSTART;VALUE=DATE:20250624
DTEND;VALUE=DATE:20250625
DTSTAMP:20260420T141042
CREATED:20250528T145726Z
LAST-MODIFIED:20250528T150003Z
UID:10271-1750723200-1750809599@www.cwvys.org.uk
SUMMARY:Cynhadledd Ieuenctid Ceredigion 2025 Ceredigion Youth Conference
DESCRIPTION:Mae manylion Cynhadledd Ieuenctid Ceredigion 2025 wedi’u hatodi o dan bennawd ‘Newyddion/News’ gwefan CWVYS. Cynhelir y digwyddiad ar Ddydd Mawrth\, 24 Mehefin ym Mhrifysgol Aberystwyth fel rhan o Wythnos Gwaith Ieuenctid yng Nghymru. \nBydd y gynhadledd yn dod â phobl ifanc\, arweinwyr a gweithwyr proffesiynol ynghyd i drafod themâu allweddol ym maes gwaith ieuenctid. \n**************************************************************************************************** \nPlease find attached details of the Ceredigion Youth Conference 2025\, under the ‘News’ heading of CWVYS’ website. It will take place on Tuesday\, 24th June at Aberystwyth University as part of Youth Work Week in Wales. \nThe event will bring together young people\, leaders\, and professionals to explore key themes in youth work.
URL:https://www.cwvys.org.uk/event/cynhadledd-ieuenctid-ceredigion-2025-ceredigion-youth-conference/
END:VEVENT
BEGIN:VEVENT
DTSTART;TZID=UTC:20250626T100000
DTEND;TZID=UTC:20250626T113000
DTSTAMP:20260420T141042
CREATED:20250602T144640Z
LAST-MODIFIED:20250602T144640Z
UID:10326-1750932000-1750937400@www.cwvys.org.uk
SUMMARY:All Wales CWVYS Members Meeting / Cyfarfod Aelodau CWVYS Cymru Gyfan
DESCRIPTION:
URL:https://www.cwvys.org.uk/event/all-wales-cwvys-members-meeting-cyfarfod-aelodau-cwvys-cymru-gyfan/
END:VEVENT
BEGIN:VEVENT
DTSTART;VALUE=DATE:20250630
DTEND;VALUE=DATE:20250701
DTSTAMP:20260420T141042
CREATED:20250602T132327Z
LAST-MODIFIED:20250602T132327Z
UID:10324-1751241600-1751327999@www.cwvys.org.uk
SUMMARY:Youth Work Sector Safeguarding Group Meeting / Cyfarfod Grŵp Diogelu'r Sector Gwaith Ieuenctid
DESCRIPTION:
URL:https://www.cwvys.org.uk/event/youth-work-sector-safeguarding-group-meeting-cyfarfod-grwp-diogelur-sector-gwaith-ieuenctid-3/
END:VEVENT
END:VCALENDAR