BEGIN:VCALENDAR
VERSION:2.0
PRODID:-//CWVYS - ECPv6.15.20//NONSGML v1.0//EN
CALSCALE:GREGORIAN
METHOD:PUBLISH
X-WR-CALNAME:CWVYS
X-ORIGINAL-URL:https://www.cwvys.org.uk
X-WR-CALDESC:Events for CWVYS
REFRESH-INTERVAL;VALUE=DURATION:PT1H
X-Robots-Tag:noindex
X-PUBLISHED-TTL:PT1H
BEGIN:VTIMEZONE
TZID:Europe/London
BEGIN:DAYLIGHT
TZOFFSETFROM:+0000
TZOFFSETTO:+0100
TZNAME:BST
DTSTART:20230326T010000
END:DAYLIGHT
BEGIN:STANDARD
TZOFFSETFROM:+0100
TZOFFSETTO:+0000
TZNAME:GMT
DTSTART:20231029T010000
END:STANDARD
BEGIN:DAYLIGHT
TZOFFSETFROM:+0000
TZOFFSETTO:+0100
TZNAME:BST
DTSTART:20240331T010000
END:DAYLIGHT
BEGIN:STANDARD
TZOFFSETFROM:+0100
TZOFFSETTO:+0000
TZNAME:GMT
DTSTART:20241027T010000
END:STANDARD
BEGIN:DAYLIGHT
TZOFFSETFROM:+0000
TZOFFSETTO:+0100
TZNAME:BST
DTSTART:20250330T010000
END:DAYLIGHT
BEGIN:STANDARD
TZOFFSETFROM:+0100
TZOFFSETTO:+0000
TZNAME:GMT
DTSTART:20251026T010000
END:STANDARD
END:VTIMEZONE
BEGIN:VEVENT
DTSTART;TZID=Europe/London:20241204T140000
DTEND;TZID=Europe/London:20241204T170000
DTSTAMP:20260420T141033
CREATED:20241104T150840Z
LAST-MODIFIED:20241104T150840Z
UID:9829-1733320800-1733331600@www.cwvys.org.uk
SUMMARY:Employability Workshop CAE Digital Skills / Google Drive
DESCRIPTION:Unlock your potential with CAE’s Employability Workshops! Designed to empower job seekers\, these workshops provide essential skills and knowledge to enhance your employability in today’s competitive job market. \n \nWorskshops: \nDigital Skills / Google Drive: (4th December) Build vital digital competencies to stay relevant and competitive\, including using tools like Google Drive and other online resources.\nPreparing for Job Interviews: (11th December) Develop tailored strategies and techniques to boost your confidence and performance in interviews. \nWhat You Will Gain: \nNetworking Opportunities: Connect with industry professionals and fellow participants to build valuable relationships and expand your professional network.\nPersonal Growth: Engage in activities that foster self-reflection\, creativity\, and goal-setting\, ensuring you leave with a clear action plan for your career journey. \nFor more information\, contact enrique@caentr.org \nRegister here; https://www.eventbrite.co.uk/e/employability-workshops-in-llanelli-tickets-1058263979049?aff=ebdsoporgprofile
URL:https://www.cwvys.org.uk/event/employability-workshop-cae-digital-skills-google-drive/
LOCATION:People Speak Up  Park Street Llanelli SA15 3YE\, Ffwrnes Fach\, People Speak Up\, Park Street\, Llanelli\, SA15 3YE\, United Kingdom
END:VEVENT
BEGIN:VEVENT
DTSTART;TZID=Europe/London:20241206T100000
DTEND;TZID=Europe/London:20241206T130000
DTSTAMP:20260420T141033
CREATED:20241104T161240Z
LAST-MODIFIED:20241104T161240Z
UID:9853-1733479200-1733490000@www.cwvys.org.uk
SUMMARY:Employability Workshops CAE: Preparing for Job Interviews
DESCRIPTION:Unlock your potential with CAE’s Employability Workshops! Designed to empower job seekers\, these workshops provide essential skills and knowledge to enhance your employability in today’s competitive job market. \n \nWorskshops: \nPreparing for Job Interviews: (6th December) Develop tailored strategies and techniques to boost your confidence and performance in interviews. \nWhat You Will Gain: \nNetworking Opportunities: Connect with industry professionals and fellow participants to build valuable relationships and expand your professional network.\nPersonal Growth: Engage in activities that foster self-reflection\, creativity\, and goal-setting\, ensuring you leave with a clear action plan for your career journey. \nFor more information\, contact gustavo@caentr.org \nRegister here; https://www.eventbrite.co.uk/e/employability-workshops-tickets-1049714443157?aff=ebdsoporgprofile
URL:https://www.cwvys.org.uk/event/employability-workshops-cae-preparing-for-job-interviews/
LOCATION:Founders & Co. Swansea  24 Wind Street Swansea SA1 1DY\, Founders & Co. Swansea 24 Wind Street\, Swansea\, Select a State:\, SA1 1DY\, United Kingdom
END:VEVENT
BEGIN:VEVENT
DTSTART;TZID=Europe/London:20241211T140000
DTEND;TZID=Europe/London:20241211T170000
DTSTAMP:20260420T141033
CREATED:20241104T151453Z
LAST-MODIFIED:20241104T151453Z
UID:9834-1733925600-1733936400@www.cwvys.org.uk
SUMMARY:Employability Workshop CAE: Preparing for Job Interviews
DESCRIPTION:Unlock your potential with CAE’s Employability Workshops! Designed to empower job seekers\, these workshops provide essential skills and knowledge to enhance your employability in today’s competitive job market. \n \nWorskshops: \n\nPreparing for Job Interviews: (11th December) Develop tailored strategies and techniques to boost your confidence and performance in interviews.\n\nWhat You Will Gain: \n\nNetworking Opportunities: Connect with industry professionals and fellow participants to build valuable relationships and expand your professional network.\nPersonal Growth: Engage in activities that foster self-reflection\, creativity\, and goal-setting\, ensuring you leave with a clear action plan for your career journey.\n\nFor more information\, contact enrique@caentr.org \nRegister here; https://www.eventbrite.co.uk/e/employability-workshops-in-llanelli-tickets-1058263979049?aff=ebdsoporgprofile
URL:https://www.cwvys.org.uk/event/employability-workshop-cae-preparing-for-job-interviews/
LOCATION:People Speak Up  Park Street Llanelli SA15 3YE\, Ffwrnes Fach\, People Speak Up\, Park Street\, Llanelli\, SA15 3YE\, United Kingdom
END:VEVENT
BEGIN:VEVENT
DTSTART;TZID=Europe/London:20241212T100000
DTEND;TZID=Europe/London:20241212T120000
DTSTAMP:20260420T141033
CREATED:20231214T201838Z
LAST-MODIFIED:20240729T140103Z
UID:7846-1733997600-1734004800@www.cwvys.org.uk
SUMMARY:CWVYS All Wales Meeting
DESCRIPTION:This is the final CWVYS meeting of the year!  \nOur All Wales Meeting starts at 10am and finishes at 12:00 midday. \nTo RSVP\, please contact Catrin via catrin@cwvys.org.uk \n 
URL:https://www.cwvys.org.uk/event/cwvys-all-wales-meeting-2/
END:VEVENT
END:VCALENDAR