BEGIN:VCALENDAR
VERSION:2.0
PRODID:-//CWVYS - ECPv6.15.20//NONSGML v1.0//EN
CALSCALE:GREGORIAN
METHOD:PUBLISH
X-ORIGINAL-URL:https://www.cwvys.org.uk
X-WR-CALDESC:Events for CWVYS
REFRESH-INTERVAL;VALUE=DURATION:PT1H
X-Robots-Tag:noindex
X-PUBLISHED-TTL:PT1H
BEGIN:VTIMEZONE
TZID:Europe/London
BEGIN:DAYLIGHT
TZOFFSETFROM:+0000
TZOFFSETTO:+0100
TZNAME:BST
DTSTART:20240331T010000
END:DAYLIGHT
BEGIN:STANDARD
TZOFFSETFROM:+0100
TZOFFSETTO:+0000
TZNAME:GMT
DTSTART:20241027T010000
END:STANDARD
BEGIN:DAYLIGHT
TZOFFSETFROM:+0000
TZOFFSETTO:+0100
TZNAME:BST
DTSTART:20250330T010000
END:DAYLIGHT
BEGIN:STANDARD
TZOFFSETFROM:+0100
TZOFFSETTO:+0000
TZNAME:GMT
DTSTART:20251026T010000
END:STANDARD
BEGIN:DAYLIGHT
TZOFFSETFROM:+0000
TZOFFSETTO:+0100
TZNAME:BST
DTSTART:20260329T010000
END:DAYLIGHT
BEGIN:STANDARD
TZOFFSETFROM:+0100
TZOFFSETTO:+0000
TZNAME:GMT
DTSTART:20261025T010000
END:STANDARD
END:VTIMEZONE
BEGIN:VEVENT
DTSTART;TZID=Europe/London:20250123T100000
DTEND;TZID=Europe/London:20250123T113000
DTSTAMP:20260420T141130
CREATED:20250103T121833Z
LAST-MODIFIED:20250103T121915Z
UID:9953-1737626400-1737631800@www.cwvys.org.uk
SUMMARY:CWVYS Regional Meeting - Central South and East Wales
DESCRIPTION:On the 23rd of January the Central South and East Wales meeting takes place. \nAll regular regional meetings will be no longer than 1 hour 30 minutes long\, starting at 10am.\nPlease RSVP to catrin@cwvys.org.uk
URL:https://www.cwvys.org.uk/event/cwvys-regional-meeting-30/
END:VEVENT
END:VCALENDAR