BEGIN:VCALENDAR
VERSION:2.0
PRODID:-//CWVYS - ECPv6.15.20//NONSGML v1.0//EN
CALSCALE:GREGORIAN
METHOD:PUBLISH
X-ORIGINAL-URL:https://www.cwvys.org.uk
X-WR-CALDESC:Events for CWVYS
REFRESH-INTERVAL;VALUE=DURATION:PT1H
X-Robots-Tag:noindex
X-PUBLISHED-TTL:PT1H
BEGIN:VTIMEZONE
TZID:Europe/London
BEGIN:DAYLIGHT
TZOFFSETFROM:+0000
TZOFFSETTO:+0100
TZNAME:BST
DTSTART:20240331T010000
END:DAYLIGHT
BEGIN:STANDARD
TZOFFSETFROM:+0100
TZOFFSETTO:+0000
TZNAME:GMT
DTSTART:20241027T010000
END:STANDARD
BEGIN:DAYLIGHT
TZOFFSETFROM:+0000
TZOFFSETTO:+0100
TZNAME:BST
DTSTART:20250330T010000
END:DAYLIGHT
BEGIN:STANDARD
TZOFFSETFROM:+0100
TZOFFSETTO:+0000
TZNAME:GMT
DTSTART:20251026T010000
END:STANDARD
BEGIN:DAYLIGHT
TZOFFSETFROM:+0000
TZOFFSETTO:+0100
TZNAME:BST
DTSTART:20260329T010000
END:DAYLIGHT
BEGIN:STANDARD
TZOFFSETFROM:+0100
TZOFFSETTO:+0000
TZNAME:GMT
DTSTART:20261025T010000
END:STANDARD
END:VTIMEZONE
BEGIN:VEVENT
DTSTART;TZID=Europe/London:20250115T180000
DTEND;TZID=Europe/London:20250115T193000
DTSTAMP:20260420T141128
CREATED:20241125T212109Z
LAST-MODIFIED:20241125T212109Z
UID:9922-1736964000-1736969400@www.cwvys.org.uk
SUMMARY:CWVYS ALW Trustee Training in a Youth Work Setting
DESCRIPTION:In Partnership with CWVYS\, Adult Learning Wales will be offering the opportunity to participate in a non-accredited online training around the roles and responsibilities of trustees in youth work settings in Wales. \n15th of January 2025 – Roles and Responsibilities of a Trustee\n12th of February 2025  – Safeguarding in a Youth Work Setting\n19th of March 2025 – Young People’s Participation \nThey will be delivered online via Microsoft Teams\, running between 6pm and 7.30pm. \nInfo also here; Trustee Training Hyfforddiant Ymddiriedolwyr CWVYS ALW \nTo join please email youthwork@adultlearning.wales
URL:https://www.cwvys.org.uk/event/cwvys-alw-trustee-training-in-a-youth-work-setting/
END:VEVENT
END:VCALENDAR