BEGIN:VCALENDAR
VERSION:2.0
PRODID:-//CWVYS - ECPv6.15.20//NONSGML v1.0//EN
CALSCALE:GREGORIAN
METHOD:PUBLISH
X-ORIGINAL-URL:https://www.cwvys.org.uk
X-WR-CALDESC:Events for CWVYS
REFRESH-INTERVAL;VALUE=DURATION:PT1H
X-Robots-Tag:noindex
X-PUBLISHED-TTL:PT1H
BEGIN:VTIMEZONE
TZID:Europe/London
BEGIN:DAYLIGHT
TZOFFSETFROM:+0000
TZOFFSETTO:+0100
TZNAME:BST
DTSTART:20230326T010000
END:DAYLIGHT
BEGIN:STANDARD
TZOFFSETFROM:+0100
TZOFFSETTO:+0000
TZNAME:GMT
DTSTART:20231029T010000
END:STANDARD
BEGIN:DAYLIGHT
TZOFFSETFROM:+0000
TZOFFSETTO:+0100
TZNAME:BST
DTSTART:20240331T010000
END:DAYLIGHT
BEGIN:STANDARD
TZOFFSETFROM:+0100
TZOFFSETTO:+0000
TZNAME:GMT
DTSTART:20241027T010000
END:STANDARD
BEGIN:DAYLIGHT
TZOFFSETFROM:+0000
TZOFFSETTO:+0100
TZNAME:BST
DTSTART:20250330T010000
END:DAYLIGHT
BEGIN:STANDARD
TZOFFSETFROM:+0100
TZOFFSETTO:+0000
TZNAME:GMT
DTSTART:20251026T010000
END:STANDARD
END:VTIMEZONE
BEGIN:VEVENT
DTSTART;TZID=Europe/London:20241129T140000
DTEND;TZID=Europe/London:20241129T170000
DTSTAMP:20260420T154008
CREATED:20241104T150012Z
LAST-MODIFIED:20241104T150012Z
UID:9823-1732888800-1732899600@www.cwvys.org.uk
SUMMARY:Employability Workshops CAE Creating CVs & Cover Letters
DESCRIPTION:Unlock your potential with CAE’s Employability Workshops! Designed to empower job seekers\, these workshops provide essential skills and knowledge to enhance your employability in today’s competitive job market. \n \nWorskshops: \nCreating CVs & Cover Letters: (29th November) Master the art of crafting compelling CVs and cover letters that stand out to employers.\nDigital Skills / Google Drive: (4th December) Build vital digital competencies to stay relevant and competitive\, including using tools like Google Drive and other online resources.\nPreparing for Job Interviews: (11th December) Develop tailored strategies and techniques to boost your confidence and performance in interviews.\nWhat You Will Gain: \nNetworking Opportunities: Connect with industry professionals and fellow participants to build valuable relationships and expand your professional network.\nPersonal Growth: Engage in activities that foster self-reflection\, creativity\, and goal-setting\, ensuring you leave with a clear action plan for your career journey.\nFor more information\, contact enrique@caentr.org \nRegister here; https://www.eventbrite.co.uk/e/employability-workshops-in-llanelli-tickets-1058263979049?aff=ebdsoporgprofile
URL:https://www.cwvys.org.uk/event/employability-workshops-cae-creating-cvs-cover-letters/
LOCATION:People Speak Up  Park Street Llanelli SA15 3YE\, Ffwrnes Fach\, People Speak Up\, Park Street\, Llanelli\, SA15 3YE\, United Kingdom
END:VEVENT
END:VCALENDAR