BEGIN:VCALENDAR
VERSION:2.0
PRODID:-//CWVYS - ECPv6.15.20//NONSGML v1.0//EN
CALSCALE:GREGORIAN
METHOD:PUBLISH
X-WR-CALNAME:CWVYS
X-ORIGINAL-URL:https://www.cwvys.org.uk
X-WR-CALDESC:Events for CWVYS
REFRESH-INTERVAL;VALUE=DURATION:PT1H
X-Robots-Tag:noindex
X-PUBLISHED-TTL:PT1H
BEGIN:VTIMEZONE
TZID:Europe/London
BEGIN:DAYLIGHT
TZOFFSETFROM:+0000
TZOFFSETTO:+0100
TZNAME:BST
DTSTART:20230326T010000
END:DAYLIGHT
BEGIN:STANDARD
TZOFFSETFROM:+0100
TZOFFSETTO:+0000
TZNAME:GMT
DTSTART:20231029T010000
END:STANDARD
BEGIN:DAYLIGHT
TZOFFSETFROM:+0000
TZOFFSETTO:+0100
TZNAME:BST
DTSTART:20240331T010000
END:DAYLIGHT
BEGIN:STANDARD
TZOFFSETFROM:+0100
TZOFFSETTO:+0000
TZNAME:GMT
DTSTART:20241027T010000
END:STANDARD
BEGIN:DAYLIGHT
TZOFFSETFROM:+0000
TZOFFSETTO:+0100
TZNAME:BST
DTSTART:20250330T010000
END:DAYLIGHT
BEGIN:STANDARD
TZOFFSETFROM:+0100
TZOFFSETTO:+0000
TZNAME:GMT
DTSTART:20251026T010000
END:STANDARD
END:VTIMEZONE
BEGIN:VEVENT
DTSTART;TZID=Europe/London:20241122T100000
DTEND;TZID=Europe/London:20241122T113000
DTSTAMP:20260420T165353
CREATED:20231214T201720Z
LAST-MODIFIED:20240729T133302Z
UID:7844-1732269600-1732275000@www.cwvys.org.uk
SUMMARY:CWVYS Regional Meeting
DESCRIPTION:North\, South West and Mid Wales \nAll meetings start am 10 am and finish before 11.30am \nTo RSVP\, please contact Catrin at catrin@cwvys.org.uk
URL:https://www.cwvys.org.uk/event/cwvys-regional-meeting-38/
END:VEVENT
BEGIN:VEVENT
DTSTART;TZID=Europe/London:20241122T100000
DTEND;TZID=Europe/London:20241122T130000
DTSTAMP:20260420T165353
CREATED:20241104T160559Z
LAST-MODIFIED:20241104T160559Z
UID:9848-1732269600-1732280400@www.cwvys.org.uk
SUMMARY:Employability Workshops CAE: Digital Skills / Google Drive
DESCRIPTION:Unlock your potential with CAE’s Employability Workshops! Designed to empower job seekers\, these workshops provide essential skills and knowledge to enhance your employability in today’s competitive job market. \n \nWorskshops: \nDigital Skills / Google Drive: (22nd November) Build vital digital competencies to stay relevant and competitive\, including using tools like Google Drive and other online resources.\nPreparing for Job Interviews: (6th December) Develop tailored strategies and techniques to boost your confidence and performance in interviews. \nWhat You Will Gain: \nNetworking Opportunities: Connect with industry professionals and fellow participants to build valuable relationships and expand your professional network.\nPersonal Growth: Engage in activities that foster self-reflection\, creativity\, and goal-setting\, ensuring you leave with a clear action plan for your career journey. \nFor more information\, contact gustavo@caentr.org \nRegister here; https://www.eventbrite.co.uk/e/employability-workshops-tickets-1049714443157?aff=ebdsoporgprofile
URL:https://www.cwvys.org.uk/event/employability-workshops-cae-digital-skills-google-drive/
LOCATION:Founders & Co. Swansea  24 Wind Street Swansea SA1 1DY\, Founders & Co. Swansea 24 Wind Street\, Swansea\, Select a State:\, SA1 1DY\, United Kingdom
END:VEVENT
END:VCALENDAR