BEGIN:VCALENDAR
VERSION:2.0
PRODID:-//CWVYS - ECPv6.15.20//NONSGML v1.0//EN
CALSCALE:GREGORIAN
METHOD:PUBLISH
X-ORIGINAL-URL:https://www.cwvys.org.uk
X-WR-CALDESC:Events for CWVYS
REFRESH-INTERVAL;VALUE=DURATION:PT1H
X-Robots-Tag:noindex
X-PUBLISHED-TTL:PT1H
BEGIN:VTIMEZONE
TZID:Europe/London
BEGIN:DAYLIGHT
TZOFFSETFROM:+0000
TZOFFSETTO:+0100
TZNAME:BST
DTSTART:20230326T010000
END:DAYLIGHT
BEGIN:STANDARD
TZOFFSETFROM:+0100
TZOFFSETTO:+0000
TZNAME:GMT
DTSTART:20231029T010000
END:STANDARD
BEGIN:DAYLIGHT
TZOFFSETFROM:+0000
TZOFFSETTO:+0100
TZNAME:BST
DTSTART:20240331T010000
END:DAYLIGHT
BEGIN:STANDARD
TZOFFSETFROM:+0100
TZOFFSETTO:+0000
TZNAME:GMT
DTSTART:20241027T010000
END:STANDARD
BEGIN:DAYLIGHT
TZOFFSETFROM:+0000
TZOFFSETTO:+0100
TZNAME:BST
DTSTART:20250330T010000
END:DAYLIGHT
BEGIN:STANDARD
TZOFFSETFROM:+0100
TZOFFSETTO:+0000
TZNAME:GMT
DTSTART:20251026T010000
END:STANDARD
END:VTIMEZONE
BEGIN:VEVENT
DTSTART;TZID=Europe/London:20241118T110000
DTEND;TZID=Europe/London:20241118T123000
DTSTAMP:20260420T165640
CREATED:20241031T124351Z
LAST-MODIFIED:20241031T124351Z
UID:9766-1731927600-1731933000@www.cwvys.org.uk
SUMMARY:Brook: Safeguarding: Developing Professional Curiosity
DESCRIPTION:Brook: Safeguarding: Developing Professional Curiosity\nFor 60 years\, safeguarding has been at the very heart of Brook’s work. Join us this Safeguarding Adults Week for a panel discussion all about developing professional curiosity. \nAs part of our 60th anniversary celebrations we’re putting on a fantastic schedule of events and activities\, designed to celebrate the vibrancy and importance of the sexual and reproductive health sector. We want to convene the sector and experts at a pivotal time – not just for Brook – but for society as a whole.\nFollow our socials to keep up-to-date with more events like this. \nRegister here; Safeguarding: Developing Professional Curiosity Tickets\, Mon\, Nov 18\, 2024 at 11:00 AM | Eventbrite
URL:https://www.cwvys.org.uk/event/brook-safeguarding-developing-professional-curiosity/
END:VEVENT
END:VCALENDAR