BEGIN:VCALENDAR
VERSION:2.0
PRODID:-//CWVYS - ECPv6.15.20//NONSGML v1.0//EN
CALSCALE:GREGORIAN
METHOD:PUBLISH
X-ORIGINAL-URL:https://www.cwvys.org.uk
X-WR-CALDESC:Events for CWVYS
REFRESH-INTERVAL;VALUE=DURATION:PT1H
X-Robots-Tag:noindex
X-PUBLISHED-TTL:PT1H
BEGIN:VTIMEZONE
TZID:Europe/London
BEGIN:DAYLIGHT
TZOFFSETFROM:+0000
TZOFFSETTO:+0100
TZNAME:BST
DTSTART:20230326T010000
END:DAYLIGHT
BEGIN:STANDARD
TZOFFSETFROM:+0100
TZOFFSETTO:+0000
TZNAME:GMT
DTSTART:20231029T010000
END:STANDARD
BEGIN:DAYLIGHT
TZOFFSETFROM:+0000
TZOFFSETTO:+0100
TZNAME:BST
DTSTART:20240331T010000
END:DAYLIGHT
BEGIN:STANDARD
TZOFFSETFROM:+0100
TZOFFSETTO:+0000
TZNAME:GMT
DTSTART:20241027T010000
END:STANDARD
BEGIN:DAYLIGHT
TZOFFSETFROM:+0000
TZOFFSETTO:+0100
TZNAME:BST
DTSTART:20250330T010000
END:DAYLIGHT
BEGIN:STANDARD
TZOFFSETFROM:+0100
TZOFFSETTO:+0000
TZNAME:GMT
DTSTART:20251026T010000
END:STANDARD
END:VTIMEZONE
BEGIN:VEVENT
DTSTART;TZID=Europe/London:20241114T100000
DTEND;TZID=Europe/London:20241114T130000
DTSTAMP:20260420T165633
CREATED:20240916T122827Z
LAST-MODIFIED:20241031T134033Z
UID:9620-1731578400-1731589200@www.cwvys.org.uk
SUMMARY:NYAS Cymru: Parent Advocacy Event
DESCRIPTION:NYAS Cymru Parent Advocacy Event \n \nThursday 14th November 2024: 10:00am – 1:00pm: Senedd\, Cardiff Bay \nOur Parent Advocacy team welcomes you to our event on Thursday 14th November 2024! We hope to bring you a fantastic morning of guest speakers who will be presenting how they are working collaboratively with Parent Advocacy to drive change to the families we are working with. Parent advocacy spans across PAN Gwent and Cardiff and the Vale\, thanks to funding from Welsh Government. Some of the guest speakers will be from Welsh Government\, Caerphilly Local Authority\, the CASCADE team at Cardiff University\, as well as our own Parent Advocacy team and parents who have accessed our service. \nPlease do click on the Eventbrite link to secure your place at our event and we look forward to sharing further details on our event in the coming few weeks! \nPlease register your interest and we look forward to welcoming you on Thursday 14th November 2024
URL:https://www.cwvys.org.uk/event/nyas-cymru-welcomes-you-to-save-the-date-parent-advocacy-event/
END:VEVENT
END:VCALENDAR