BEGIN:VCALENDAR
VERSION:2.0
PRODID:-//CWVYS - ECPv6.15.20//NONSGML v1.0//EN
CALSCALE:GREGORIAN
METHOD:PUBLISH
X-WR-CALNAME:CWVYS
X-ORIGINAL-URL:https://www.cwvys.org.uk
X-WR-CALDESC:Events for CWVYS
REFRESH-INTERVAL;VALUE=DURATION:PT1H
X-Robots-Tag:noindex
X-PUBLISHED-TTL:PT1H
BEGIN:VTIMEZONE
TZID:Europe/London
BEGIN:DAYLIGHT
TZOFFSETFROM:+0000
TZOFFSETTO:+0100
TZNAME:BST
DTSTART:20230326T010000
END:DAYLIGHT
BEGIN:STANDARD
TZOFFSETFROM:+0100
TZOFFSETTO:+0000
TZNAME:GMT
DTSTART:20231029T010000
END:STANDARD
BEGIN:DAYLIGHT
TZOFFSETFROM:+0000
TZOFFSETTO:+0100
TZNAME:BST
DTSTART:20240331T010000
END:DAYLIGHT
BEGIN:STANDARD
TZOFFSETFROM:+0100
TZOFFSETTO:+0000
TZNAME:GMT
DTSTART:20241027T010000
END:STANDARD
BEGIN:DAYLIGHT
TZOFFSETFROM:+0000
TZOFFSETTO:+0100
TZNAME:BST
DTSTART:20250330T010000
END:DAYLIGHT
BEGIN:STANDARD
TZOFFSETFROM:+0100
TZOFFSETTO:+0000
TZNAME:GMT
DTSTART:20251026T010000
END:STANDARD
END:VTIMEZONE
BEGIN:VEVENT
DTSTART;TZID=Europe/London:20241113T143000
DTEND;TZID=Europe/London:20241113T160000
DTSTAMP:20260420T165500
CREATED:20241031T125327Z
LAST-MODIFIED:20241031T130524Z
UID:9776-1731508200-1731513600@www.cwvys.org.uk
SUMMARY:Climate Cymru Global Climate Justice Group Online panel event
DESCRIPTION:Online panel event the Global Climate Justice Group of Climate Cymru is organising during Wales Climate Week\, focusing on climate justice.\nOnline Panel Event on Climate Justice 13 Nov_ \n13 November at 14.30 – 16.00 \nChaired by Sarah Rees\, Head of Oxfam Cymru we will welcome incredible speakers from the Global South: \nEleala Avanitele\, Consultant for Grameen Foundation in Tuvalu \nBankole Oloruntoba\, CEO of the Nigeria Climate Innovation Center \nProf. Mazin Qumsiyeh\, Director of the Palestine Institute for Biodiversity and Sustainability \nTo register for this event please go to: \nThe place of climate justice in adapting to our changing climate – Action Network \n 
URL:https://www.cwvys.org.uk/event/climate-cymru-global-climate-justice-group-online-panel-event/
END:VEVENT
END:VCALENDAR