BEGIN:VCALENDAR
VERSION:2.0
PRODID:-//CWVYS - ECPv6.15.20//NONSGML v1.0//EN
CALSCALE:GREGORIAN
METHOD:PUBLISH
X-ORIGINAL-URL:https://www.cwvys.org.uk
X-WR-CALDESC:Events for CWVYS
REFRESH-INTERVAL;VALUE=DURATION:PT1H
X-Robots-Tag:noindex
X-PUBLISHED-TTL:PT1H
BEGIN:VTIMEZONE
TZID:Europe/London
BEGIN:DAYLIGHT
TZOFFSETFROM:+0000
TZOFFSETTO:+0100
TZNAME:BST
DTSTART:20230326T010000
END:DAYLIGHT
BEGIN:STANDARD
TZOFFSETFROM:+0100
TZOFFSETTO:+0000
TZNAME:GMT
DTSTART:20231029T010000
END:STANDARD
BEGIN:DAYLIGHT
TZOFFSETFROM:+0000
TZOFFSETTO:+0100
TZNAME:BST
DTSTART:20240331T010000
END:DAYLIGHT
BEGIN:STANDARD
TZOFFSETFROM:+0100
TZOFFSETTO:+0000
TZNAME:GMT
DTSTART:20241027T010000
END:STANDARD
BEGIN:DAYLIGHT
TZOFFSETFROM:+0000
TZOFFSETTO:+0100
TZNAME:BST
DTSTART:20250330T010000
END:DAYLIGHT
BEGIN:STANDARD
TZOFFSETFROM:+0100
TZOFFSETTO:+0000
TZNAME:GMT
DTSTART:20251026T010000
END:STANDARD
END:VTIMEZONE
BEGIN:VEVENT
DTSTART;TZID=Europe/London:20241008T093000
DTEND;TZID=Europe/London:20241008T160000
DTSTAMP:20260420T180443
CREATED:20240816T134322Z
LAST-MODIFIED:20240816T134322Z
UID:9372-1728379800-1728403200@www.cwvys.org.uk
SUMMARY:The second Youth Homelessness Conference
DESCRIPTION:The second Youth Homelessness Conference is taking place in Llandrindod Wells on 8th October. \nThe conference is aimed at both practitioners and strategic managers responsible for engaging young people who are experiencing or at risk of homelessness. These include; the Youth Work Sector\, Engagement and Progression Coordinators\, teaching staff\, Housing and Social Care teams. \nSign up – Working Together to Address Youth Homelessness Conference 2024 – Pavilion Mid Wales (tickettailor.com)
URL:https://www.cwvys.org.uk/event/the-second-youth-homelessness-conference/
END:VEVENT
END:VCALENDAR