BEGIN:VCALENDAR
VERSION:2.0
PRODID:-//CWVYS - ECPv6.15.20//NONSGML v1.0//EN
CALSCALE:GREGORIAN
METHOD:PUBLISH
X-ORIGINAL-URL:https://www.cwvys.org.uk
X-WR-CALDESC:Events for CWVYS
REFRESH-INTERVAL;VALUE=DURATION:PT1H
X-Robots-Tag:noindex
X-PUBLISHED-TTL:PT1H
BEGIN:VTIMEZONE
TZID:Europe/London
BEGIN:DAYLIGHT
TZOFFSETFROM:+0000
TZOFFSETTO:+0100
TZNAME:BST
DTSTART:20230326T010000
END:DAYLIGHT
BEGIN:STANDARD
TZOFFSETFROM:+0100
TZOFFSETTO:+0000
TZNAME:GMT
DTSTART:20231029T010000
END:STANDARD
BEGIN:DAYLIGHT
TZOFFSETFROM:+0000
TZOFFSETTO:+0100
TZNAME:BST
DTSTART:20240331T010000
END:DAYLIGHT
BEGIN:STANDARD
TZOFFSETFROM:+0100
TZOFFSETTO:+0000
TZNAME:GMT
DTSTART:20241027T010000
END:STANDARD
BEGIN:DAYLIGHT
TZOFFSETFROM:+0000
TZOFFSETTO:+0100
TZNAME:BST
DTSTART:20250330T010000
END:DAYLIGHT
BEGIN:STANDARD
TZOFFSETFROM:+0100
TZOFFSETTO:+0000
TZNAME:GMT
DTSTART:20251026T010000
END:STANDARD
END:VTIMEZONE
BEGIN:VTIMEZONE
TZID:UTC
BEGIN:STANDARD
TZOFFSETFROM:+0000
TZOFFSETTO:+0000
TZNAME:UTC
DTSTART:20230101T000000
END:STANDARD
END:VTIMEZONE
BEGIN:VEVENT
DTSTART;TZID=Europe/London:20240927T080000
DTEND;TZID=Europe/London:20240927T090000
DTSTAMP:20260420T205126
CREATED:20240916T120930Z
LAST-MODIFIED:20240916T120930Z
UID:9601-1727424000-1727427600@www.cwvys.org.uk
SUMMARY:Dathlu'r Deg
DESCRIPTION:Please see below an invite to the Urdd Gobaith Cymru’s celebrations of their apprenticeships programme\, ten years of amazing work! \nThe first breakfast event takes place on the 24th of September in Llandudno\, and the second is in Swansea on the 27th of  September\, if you intend to attend\, please confirm via this link  TODAY (16th of September) \n 
URL:https://www.cwvys.org.uk/event/dathlur-deg-2/
END:VEVENT
BEGIN:VEVENT
DTSTART;TZID=UTC:20240927T100000
DTEND;TZID=UTC:20240927T113000
DTSTAMP:20260420T205126
CREATED:20231214T201328Z
LAST-MODIFIED:20240729T131047Z
UID:7836-1727431200-1727436600@www.cwvys.org.uk
SUMMARY:CWVYS Regional Meeting
DESCRIPTION:North\, South West and Mid Wales \nAll meetings start am 10 am and finish before 11.30am \nTo RSVP\, please contact Catrin at catrin@cwvys.org.uk
URL:https://www.cwvys.org.uk/event/cwvys-regional-meeting-34/
END:VEVENT
END:VCALENDAR